Package: hmdbQuery Version: 1.24.0 Command: /home/biocbuild/R/R-beta-2024-04-15_r86425/bin/R CMD INSTALL hmdbQuery StartedAt: 2024-05-08 20:05:51 -0000 (Wed, 08 May 2024) EndedAt: 2024-05-08 20:06:25 -0000 (Wed, 08 May 2024) EllapsedTime: 33.3 seconds RetCode: 0 Status: OK