Package: hmdbQuery Version: 1.24.0 Command: rm -rf hmdbQuery.buildbin-libdir && mkdir hmdbQuery.buildbin-libdir && /Users/biocbuild/BBS/utils/build-universal.sh hmdbQuery_1.24.0.tar.gz /Library/Frameworks/R.framework/Resources/bin/R hmdbQuery.buildbin-libdir StartedAt: 2024-06-11 11:36:56 -0400 (Tue, 11 Jun 2024) EndedAt: 2024-06-11 11:37:09 -0400 (Tue, 11 Jun 2024) EllapsedTime: 13.3 seconds RetCode: 0 Status: OK PackageFile: hmdbQuery_1.24.0.tgz PackageFileSize: 888.2 KiB