Package: hmdbQuery Version: 1.24.0 Command: /Library/Frameworks/R.framework/Resources/bin/R CMD INSTALL hmdbQuery StartedAt: 2024-10-16 15:40:15 -0400 (Wed, 16 Oct 2024) EndedAt: 2024-10-16 15:40:22 -0400 (Wed, 16 Oct 2024) EllapsedTime: 6.7 seconds RetCode: 0 Status: OK