Package: hipathia Version: 3.4.0 Command: rm -rf hipathia.buildbin-libdir && mkdir hipathia.buildbin-libdir && E:\biocbuild\bbs-3.19-bioc\R\bin\R.exe CMD INSTALL --build --library=hipathia.buildbin-libdir hipathia_3.4.0.tar.gz StartedAt: 2024-10-17 07:57:41 -0400 (Thu, 17 Oct 2024) EndedAt: 2024-10-17 08:00:07 -0400 (Thu, 17 Oct 2024) EllapsedTime: 145.8 seconds RetCode: 0 Status: OK PackageFile: hipathia_3.4.0.zip PackageFileSize: 7.658 MiB