Package: hipathia Version: 3.4.0 Command: /home/biocbuild/bbs-3.19-bioc/R/bin/R CMD build --keep-empty-dirs --no-resave-data hipathia StartedAt: 2024-10-16 18:58:31 -0400 (Wed, 16 Oct 2024) EndedAt: 2024-10-16 18:59:55 -0400 (Wed, 16 Oct 2024) EllapsedTime: 84.2 seconds RetCode: 1 Status: ERROR PackageFile: None PackageFileSize: NA