Package: hipathia Version: 3.4.0 Command: /home/biocbuild/R/R-beta-2024-04-15_r86425/bin/R CMD check --install=check:hipathia.install-out.txt --library=/home/biocbuild/R/R-beta-2024-04-15_r86425/site-library --no-vignettes --timings hipathia_3.4.0.tar.gz StartedAt: 2024-05-09 08:22:31 -0000 (Thu, 09 May 2024) EndedAt: 2024-05-09 08:42:20 -0000 (Thu, 09 May 2024) EllapsedTime: 1189.1 seconds RetCode: 0 Status: OK CheckDir: hipathia.Rcheck Warnings: 0