Package: hipathia Version: 3.4.0 Command: /home/biocbuild/R/R-beta-2024-04-15_r86425/bin/R CMD build --keep-empty-dirs --no-resave-data hipathia StartedAt: 2024-05-09 00:58:02 -0000 (Thu, 09 May 2024) EndedAt: 2024-05-09 01:07:59 -0000 (Thu, 09 May 2024) EllapsedTime: 596.8 seconds RetCode: 0 Status: OK PackageFile: hipathia_3.4.0.tar.gz PackageFileSize: 7.735 MiB