Package: hipathia Version: 3.4.0 Command: /Library/Frameworks/R.framework/Resources/bin/R CMD INSTALL hipathia StartedAt: 2024-06-09 17:37:33 -0400 (Sun, 09 Jun 2024) EndedAt: 2024-06-09 17:38:27 -0400 (Sun, 09 Jun 2024) EllapsedTime: 53.8 seconds RetCode: 0 Status: OK