Package: hierinf Version: 1.22.0 Command: E:\biocbuild\bbs-3.19-bioc\R\bin\R.exe CMD INSTALL hierinf StartedAt: 2024-10-16 17:08:30 -0400 (Wed, 16 Oct 2024) EndedAt: 2024-10-16 17:08:43 -0400 (Wed, 16 Oct 2024) EllapsedTime: 13.1 seconds RetCode: 0 Status: OK