Package: hierinf Version: 1.22.0 Command: chmod a+r hierinf -R && E:\biocbuild\bbs-3.19-bioc\R\bin\R.exe CMD build --keep-empty-dirs --no-resave-data hierinf StartedAt: 2024-10-16 19:41:53 -0400 (Wed, 16 Oct 2024) EndedAt: 2024-10-16 19:43:49 -0400 (Wed, 16 Oct 2024) EllapsedTime: 115.9 seconds RetCode: 0 Status: OK PackageFile: hierinf_1.22.0.tar.gz PackageFileSize: 430.6 KiB