Package: hierinf Version: 1.22.0 Command: chmod a+r hierinf -R && F:\biocbuild\bbs-3.19-bioc\R\bin\R.exe CMD build --keep-empty-dirs --no-resave-data hierinf StartedAt: 2024-06-26 19:28:35 -0400 (Wed, 26 Jun 2024) EndedAt: 2024-06-26 19:30:18 -0400 (Wed, 26 Jun 2024) EllapsedTime: 103.3 seconds RetCode: 0 Status: OK PackageFile: hierinf_1.22.0.tar.gz PackageFileSize: 430.1 KiB