Package: hierinf Version: 1.22.0 Command: rm -rf hierinf.buildbin-libdir && mkdir hierinf.buildbin-libdir && F:\biocbuild\bbs-3.19-bioc\R\bin\R.exe CMD INSTALL --build --library=hierinf.buildbin-libdir hierinf_1.22.0.tar.gz StartedAt: 2024-06-27 08:21:06 -0400 (Thu, 27 Jun 2024) EndedAt: 2024-06-27 08:21:14 -0400 (Thu, 27 Jun 2024) EllapsedTime: 8.0 seconds RetCode: 0 Status: OK PackageFile: hierinf_1.22.0.zip PackageFileSize: 501.4 KiB