Package: hierinf Version: 1.22.0 Command: /home/biocbuild/bbs-3.19-bioc/R/bin/R CMD INSTALL hierinf StartedAt: 2024-10-16 16:36:20 -0400 (Wed, 16 Oct 2024) EndedAt: 2024-10-16 16:36:22 -0400 (Wed, 16 Oct 2024) EllapsedTime: 2.5 seconds RetCode: 0 Status: OK