Package: hierinf Version: 1.22.0 Command: /Library/Frameworks/R.framework/Resources/bin/R CMD check --install=check:hierinf.install-out.txt --library=/Library/Frameworks/R.framework/Resources/library --no-vignettes --timings hierinf_1.22.0.tar.gz StartedAt: 2024-10-17 06:41:21 -0400 (Thu, 17 Oct 2024) EndedAt: 2024-10-17 06:48:12 -0400 (Thu, 17 Oct 2024) EllapsedTime: 411.1 seconds RetCode: 0 Status: OK CheckDir: hierinf.Rcheck Warnings: 0