Package: hierinf Version: 1.22.0 Command: /Library/Frameworks/R.framework/Resources/bin/R CMD build --keep-empty-dirs --no-resave-data hierinf StartedAt: 2024-10-16 20:00:23 -0400 (Wed, 16 Oct 2024) EndedAt: 2024-10-16 20:03:57 -0400 (Wed, 16 Oct 2024) EllapsedTime: 214.0 seconds RetCode: 0 Status: OK PackageFile: hierinf_1.22.0.tar.gz PackageFileSize: 432 KiB