Package: hierinf Version: 1.22.0 Command: /home/biocbuild/R/R-beta-2024-04-15_r86425/bin/R CMD check --install=check:hierinf.install-out.txt --library=/home/biocbuild/R/R-beta-2024-04-15_r86425/site-library --no-vignettes --timings hierinf_1.22.0.tar.gz StartedAt: 2024-05-09 08:21:57 -0000 (Thu, 09 May 2024) EndedAt: 2024-05-09 08:27:13 -0000 (Thu, 09 May 2024) EllapsedTime: 316.6 seconds RetCode: 1 Status: ERROR CheckDir: hierinf.Rcheck Warnings: NA