Package: hierinf Version: 1.22.0 Command: /Library/Frameworks/R.framework/Resources/bin/R CMD check --install=check:hierinf.install-out.txt --library=/Library/Frameworks/R.framework/Resources/library --no-vignettes --timings hierinf_1.22.0.tar.gz StartedAt: 2024-10-18 00:36:50 -0400 (Fri, 18 Oct 2024) EndedAt: 2024-10-18 00:40:36 -0400 (Fri, 18 Oct 2024) EllapsedTime: 225.9 seconds RetCode: 0 Status: OK CheckDir: hierinf.Rcheck Warnings: 0