Package: hierinf Version: 1.22.0 Maintainer: Claude Renaux MaintainerEmail: renaux at stat.math.ethz.ch git_url: https://git.bioconductor.org/packages/hierinf git_branch: RELEASE_3_19 git_last_commit: 76f3d9b git_last_commit_date: 2024-04-30 11:08:12 -0400 (Tue, 30 Apr 2024)