Package: hierGWAS Version: 1.34.0 Command: E:\biocbuild\bbs-3.19-bioc\R\bin\R.exe CMD check --no-multiarch --install=check:hierGWAS.install-out.txt --library=E:\biocbuild\bbs-3.19-bioc\R\library --no-vignettes --timings hierGWAS_1.34.0.tar.gz StartedAt: 2024-10-17 02:20:37 -0400 (Thu, 17 Oct 2024) EndedAt: 2024-10-17 02:21:38 -0400 (Thu, 17 Oct 2024) EllapsedTime: 61.1 seconds RetCode: 0 Status: WARNINGS CheckDir: hierGWAS.Rcheck Warnings: 1