Package: hierGWAS Version: 1.34.0 Command: chmod a+r hierGWAS -R && E:\biocbuild\bbs-3.19-bioc\R\bin\R.exe CMD build --keep-empty-dirs --no-resave-data hierGWAS StartedAt: 2024-10-16 19:41:49 -0400 (Wed, 16 Oct 2024) EndedAt: 2024-10-16 19:43:48 -0400 (Wed, 16 Oct 2024) EllapsedTime: 119.0 seconds RetCode: 0 Status: OK PackageFile: hierGWAS_1.34.0.tar.gz PackageFileSize: 432.9 KiB