Package: hierGWAS Version: 1.34.0 Command: rm -rf hierGWAS.buildbin-libdir && mkdir hierGWAS.buildbin-libdir && E:\biocbuild\bbs-3.19-bioc\R\bin\R.exe CMD INSTALL --build --library=hierGWAS.buildbin-libdir hierGWAS_1.34.0.tar.gz StartedAt: 2024-10-17 07:57:19 -0400 (Thu, 17 Oct 2024) EndedAt: 2024-10-17 07:57:28 -0400 (Thu, 17 Oct 2024) EllapsedTime: 8.9 seconds RetCode: 0 Status: OK PackageFile: hierGWAS_1.34.0.zip PackageFileSize: 421.9 KiB