Package: hierGWAS Version: 1.34.0 Command: rm -rf hierGWAS.buildbin-libdir && mkdir hierGWAS.buildbin-libdir && F:\biocbuild\bbs-3.19-bioc\R\bin\R.exe CMD INSTALL --build --library=hierGWAS.buildbin-libdir hierGWAS_1.34.0.tar.gz StartedAt: 2024-06-27 08:21:04 -0400 (Thu, 27 Jun 2024) EndedAt: 2024-06-27 08:21:12 -0400 (Thu, 27 Jun 2024) EllapsedTime: 8.1 seconds RetCode: 0 Status: OK PackageFile: hierGWAS_1.34.0.zip PackageFileSize: 420.9 KiB