Package: hierGWAS Version: 1.34.0 Command: /home/biocbuild/bbs-3.19-bioc/R/bin/R CMD build --keep-empty-dirs --no-resave-data hierGWAS StartedAt: 2024-10-16 18:57:26 -0400 (Wed, 16 Oct 2024) EndedAt: 2024-10-16 18:59:09 -0400 (Wed, 16 Oct 2024) EllapsedTime: 103.2 seconds RetCode: 0 Status: OK PackageFile: hierGWAS_1.34.0.tar.gz PackageFileSize: 429.6 KiB