Package: hierGWAS Version: 1.34.0 Command: /Library/Frameworks/R.framework/Resources/bin/R CMD build --keep-empty-dirs --no-resave-data hierGWAS StartedAt: 2024-10-16 20:00:15 -0400 (Wed, 16 Oct 2024) EndedAt: 2024-10-16 20:03:47 -0400 (Wed, 16 Oct 2024) EllapsedTime: 211.5 seconds RetCode: 0 Status: OK PackageFile: hierGWAS_1.34.0.tar.gz PackageFileSize: 567.3 KiB