Package: hierGWAS Version: 1.34.0 Command: rm -rf hierGWAS.buildbin-libdir && mkdir hierGWAS.buildbin-libdir && /Users/biocbuild/BBS/utils/build-universal.sh hierGWAS_1.34.0.tar.gz /Library/Frameworks/R.framework/Resources/bin/R hierGWAS.buildbin-libdir StartedAt: 2024-10-17 16:21:32 -0400 (Thu, 17 Oct 2024) EndedAt: 2024-10-17 16:21:47 -0400 (Thu, 17 Oct 2024) EllapsedTime: 14.9 seconds RetCode: 0 Status: OK PackageFile: hierGWAS_1.34.0.tgz PackageFileSize: 545.8 KiB