Package: hierGWAS Version: 1.34.0 Command: /Library/Frameworks/R.framework/Resources/bin/R CMD build --keep-empty-dirs --no-resave-data hierGWAS StartedAt: 2024-06-09 16:57:04 -0400 (Sun, 09 Jun 2024) EndedAt: 2024-06-09 16:58:42 -0400 (Sun, 09 Jun 2024) EllapsedTime: 97.9 seconds RetCode: 0 Status: OK PackageFile: hierGWAS_1.34.0.tar.gz PackageFileSize: 566.1 KiB