Package: hierGWAS Version: 1.34.0 Command: rm -rf hierGWAS.buildbin-libdir && mkdir hierGWAS.buildbin-libdir && /Users/biocbuild/BBS/utils/build-universal.sh hierGWAS_1.34.0.tar.gz /Library/Frameworks/R.framework/Resources/bin/R hierGWAS.buildbin-libdir StartedAt: 2024-06-10 00:22:11 -0400 (Mon, 10 Jun 2024) EndedAt: 2024-06-10 00:22:22 -0400 (Mon, 10 Jun 2024) EllapsedTime: 10.1 seconds RetCode: 0 Status: OK PackageFile: hierGWAS_1.34.0.tgz PackageFileSize: 544.8 KiB