Package: hierGWAS Version: 1.34.0 Command: /home/biocbuild/R/R-beta-2024-04-15_r86425/bin/R CMD build --keep-empty-dirs --no-resave-data hierGWAS StartedAt: 2024-05-09 00:56:46 -0000 (Thu, 09 May 2024) EndedAt: 2024-05-09 00:58:50 -0000 (Thu, 09 May 2024) EllapsedTime: 124.2 seconds RetCode: 0 Status: OK PackageFile: hierGWAS_1.34.0.tar.gz PackageFileSize: 555.1 KiB