Package: hierGWAS Version: 1.34.0 Command: /Library/Frameworks/R.framework/Resources/bin/R CMD check --install=check:hierGWAS.install-out.txt --library=/Library/Frameworks/R.framework/Resources/library --no-vignettes --timings hierGWAS_1.34.0.tar.gz StartedAt: 2024-06-10 18:32:13 -0400 (Mon, 10 Jun 2024) EndedAt: 2024-06-10 18:33:52 -0400 (Mon, 10 Jun 2024) EllapsedTime: 99.5 seconds RetCode: 0 Status: WARNINGS CheckDir: hierGWAS.Rcheck Warnings: 1