Package: hierGWAS Version: 1.34.0 Command: /Library/Frameworks/R.framework/Resources/bin/R CMD INSTALL hierGWAS StartedAt: 2024-10-16 17:47:43 -0400 (Wed, 16 Oct 2024) EndedAt: 2024-10-16 17:47:50 -0400 (Wed, 16 Oct 2024) EllapsedTime: 7.2 seconds RetCode: 0 Status: OK