Package: hicVennDiagram Version: 1.2.0 Command: E:\biocbuild\bbs-3.19-bioc\R\bin\R.exe CMD INSTALL hicVennDiagram StartedAt: 2024-10-16 16:37:44 -0400 (Wed, 16 Oct 2024) EndedAt: 2024-10-16 16:38:30 -0400 (Wed, 16 Oct 2024) EllapsedTime: 45.3 seconds RetCode: 0 Status: OK