Package: hicVennDiagram Version: 1.2.0 Command: rm -rf hicVennDiagram.buildbin-libdir && mkdir hicVennDiagram.buildbin-libdir && E:\biocbuild\bbs-3.19-bioc\R\bin\R.exe CMD INSTALL --build --library=hicVennDiagram.buildbin-libdir hicVennDiagram_1.2.0.tar.gz StartedAt: 2024-10-17 07:57:15 -0400 (Thu, 17 Oct 2024) EndedAt: 2024-10-17 07:58:51 -0400 (Thu, 17 Oct 2024) EllapsedTime: 96.4 seconds RetCode: 0 Status: OK PackageFile: hicVennDiagram_1.2.0.zip PackageFileSize: 1.09 MiB