Package: hicVennDiagram Version: 1.2.0 Command: chmod a+r hicVennDiagram -R && F:\biocbuild\bbs-3.19-bioc\R\bin\R.exe CMD build --keep-empty-dirs --no-resave-data hicVennDiagram StartedAt: 2024-06-26 19:28:32 -0400 (Wed, 26 Jun 2024) EndedAt: 2024-06-26 19:29:48 -0400 (Wed, 26 Jun 2024) EllapsedTime: 75.8 seconds RetCode: 0 Status: OK PackageFile: hicVennDiagram_1.2.0.tar.gz PackageFileSize: 852.9 KiB