Package: hicVennDiagram Version: 1.2.0 Command: rm -rf hicVennDiagram.buildbin-libdir && mkdir hicVennDiagram.buildbin-libdir && F:\biocbuild\bbs-3.19-bioc\R\bin\R.exe CMD INSTALL --build --library=hicVennDiagram.buildbin-libdir hicVennDiagram_1.2.0.tar.gz StartedAt: 2024-06-27 08:21:02 -0400 (Thu, 27 Jun 2024) EndedAt: 2024-06-27 08:21:56 -0400 (Thu, 27 Jun 2024) EllapsedTime: 53.8 seconds RetCode: 0 Status: OK PackageFile: hicVennDiagram_1.2.0.zip PackageFileSize: 1.09 MiB