Package: hicVennDiagram Version: 1.2.0 Command: /home/biocbuild/bbs-3.19-bioc/R/bin/R CMD INSTALL hicVennDiagram StartedAt: 2024-10-16 16:16:57 -0400 (Wed, 16 Oct 2024) EndedAt: 2024-10-16 16:17:30 -0400 (Wed, 16 Oct 2024) EllapsedTime: 33.2 seconds RetCode: 0 Status: OK