Package: hicVennDiagram Version: 1.2.0 Command: /home/biocbuild/bbs-3.19-bioc/R/bin/R CMD build --keep-empty-dirs --no-resave-data hicVennDiagram StartedAt: 2024-10-16 18:57:22 -0400 (Wed, 16 Oct 2024) EndedAt: 2024-10-16 18:58:42 -0400 (Wed, 16 Oct 2024) EllapsedTime: 80.1 seconds RetCode: 0 Status: OK PackageFile: hicVennDiagram_1.2.0.tar.gz PackageFileSize: 946.1 KiB