Package: hicVennDiagram Version: 1.2.0 Command: /Library/Frameworks/R.framework/Resources/bin/R CMD check --install=check:hicVennDiagram.install-out.txt --library=/Library/Frameworks/R.framework/Resources/library --no-vignettes --timings hicVennDiagram_1.2.0.tar.gz StartedAt: 2024-10-17 06:40:51 -0400 (Thu, 17 Oct 2024) EndedAt: 2024-10-17 06:50:44 -0400 (Thu, 17 Oct 2024) EllapsedTime: 592.4 seconds RetCode: 0 Status: OK CheckDir: hicVennDiagram.Rcheck Warnings: 0