Package: hicVennDiagram Version: 1.2.0 Command: /Library/Frameworks/R.framework/Resources/bin/R CMD check --install=check:hicVennDiagram.install-out.txt --library=/Library/Frameworks/R.framework/Resources/library --no-vignettes --timings hicVennDiagram_1.2.0.tar.gz StartedAt: 2024-06-09 20:52:56 -0400 (Sun, 09 Jun 2024) EndedAt: 2024-06-09 20:57:46 -0400 (Sun, 09 Jun 2024) EllapsedTime: 289.6 seconds RetCode: 0 Status: OK CheckDir: hicVennDiagram.Rcheck Warnings: 0