Package: hicVennDiagram Version: 1.2.0 Command: rm -rf hicVennDiagram.buildbin-libdir && mkdir hicVennDiagram.buildbin-libdir && /Users/biocbuild/BBS/utils/build-universal.sh hicVennDiagram_1.2.0.tar.gz /Library/Frameworks/R.framework/Resources/bin/R hicVennDiagram.buildbin-libdir StartedAt: 2024-06-10 00:22:11 -0400 (Mon, 10 Jun 2024) EndedAt: 2024-06-10 00:22:59 -0400 (Mon, 10 Jun 2024) EllapsedTime: 47.6 seconds RetCode: 0 Status: OK PackageFile: hicVennDiagram_1.2.0.tgz PackageFileSize: 1.448 MiB