Package: hicVennDiagram Version: 1.2.0 Command: /Library/Frameworks/R.framework/Resources/bin/R CMD build --keep-empty-dirs --no-resave-data hicVennDiagram StartedAt: 2024-06-09 22:55:16 -0400 (Sun, 09 Jun 2024) EndedAt: 2024-06-09 22:56:46 -0400 (Sun, 09 Jun 2024) EllapsedTime: 89.9 seconds RetCode: 0 Status: OK PackageFile: hicVennDiagram_1.2.0.tar.gz PackageFileSize: 1.18 MiB