Package: hicVennDiagram Version: 1.2.0 Command: rm -rf hicVennDiagram.buildbin-libdir && mkdir hicVennDiagram.buildbin-libdir && /Users/biocbuild/BBS/utils/build-universal.sh hicVennDiagram_1.2.0.tar.gz /Library/Frameworks/R.framework/Resources/bin/R hicVennDiagram.buildbin-libdir StartedAt: 2024-06-11 11:36:02 -0400 (Tue, 11 Jun 2024) EndedAt: 2024-06-11 11:37:16 -0400 (Tue, 11 Jun 2024) EllapsedTime: 74.4 seconds RetCode: 0 Status: OK PackageFile: hicVennDiagram_1.2.0.tgz PackageFileSize: 1.447 MiB