Package: hicVennDiagram Version: 1.2.0 Command: /Library/Frameworks/R.framework/Resources/bin/R CMD check --install=check:hicVennDiagram.install-out.txt --library=/Library/Frameworks/R.framework/Resources/library --no-vignettes --timings hicVennDiagram_1.2.0.tar.gz StartedAt: 2024-10-18 00:33:25 -0400 (Fri, 18 Oct 2024) EndedAt: 2024-10-18 00:38:46 -0400 (Fri, 18 Oct 2024) EllapsedTime: 320.2 seconds RetCode: 0 Status: OK CheckDir: hicVennDiagram.Rcheck Warnings: 0