Package: hicVennDiagram Version: 1.2.0 Command: /Library/Frameworks/R.framework/Resources/bin/R CMD build --keep-empty-dirs --no-resave-data hicVennDiagram StartedAt: 2024-10-17 02:25:09 -0400 (Thu, 17 Oct 2024) EndedAt: 2024-10-17 02:26:27 -0400 (Thu, 17 Oct 2024) EllapsedTime: 78.5 seconds RetCode: 0 Status: OK PackageFile: hicVennDiagram_1.2.0.tar.gz PackageFileSize: 1.182 MiB