Package: hiReadsProcessor Version: 1.40.0 Command: /Library/Frameworks/R.framework/Resources/bin/R CMD INSTALL hiReadsProcessor StartedAt: 2024-10-16 16:36:55 -0400 (Wed, 16 Oct 2024) EndedAt: 2024-10-16 16:37:41 -0400 (Wed, 16 Oct 2024) EllapsedTime: 45.4 seconds RetCode: 0 Status: OK