Package: hiAnnotator Version: 1.38.0 Command: rm -rf hiAnnotator.buildbin-libdir && mkdir hiAnnotator.buildbin-libdir && E:\biocbuild\bbs-3.19-bioc\R\bin\R.exe CMD INSTALL --build --library=hiAnnotator.buildbin-libdir hiAnnotator_1.38.0.tar.gz StartedAt: 2024-10-17 07:56:59 -0400 (Thu, 17 Oct 2024) EndedAt: 2024-10-17 07:57:45 -0400 (Thu, 17 Oct 2024) EllapsedTime: 46.3 seconds RetCode: 0 Status: OK PackageFile: hiAnnotator_1.38.0.zip PackageFileSize: 764.5 KiB