Package: hiAnnotator Version: 1.38.0 Command: /home/biocbuild/bbs-3.19-bioc/R/bin/R CMD check --install=check:hiAnnotator.install-out.txt --library=/home/biocbuild/bbs-3.19-bioc/R/site-library --timings hiAnnotator_1.38.0.tar.gz StartedAt: 2024-10-17 01:20:18 -0400 (Thu, 17 Oct 2024) EndedAt: 2024-10-17 01:25:27 -0400 (Thu, 17 Oct 2024) EllapsedTime: 309.7 seconds RetCode: 0 Status: OK CheckDir: hiAnnotator.Rcheck Warnings: 0