Package: hiAnnotator Version: 1.38.0 Command: /Library/Frameworks/R.framework/Resources/bin/R CMD INSTALL hiAnnotator StartedAt: 2024-10-16 16:36:14 -0400 (Wed, 16 Oct 2024) EndedAt: 2024-10-16 16:36:55 -0400 (Wed, 16 Oct 2024) EllapsedTime: 41.2 seconds RetCode: 0 Status: OK