Package: hiAnnotator Version: 1.38.0 Command: rm -rf hiAnnotator.buildbin-libdir && mkdir hiAnnotator.buildbin-libdir && /Users/biocbuild/BBS/utils/build-universal.sh hiAnnotator_1.38.0.tar.gz /Library/Frameworks/R.framework/Resources/bin/R hiAnnotator.buildbin-libdir StartedAt: 2024-10-18 18:54:20 -0400 (Fri, 18 Oct 2024) EndedAt: 2024-10-18 18:55:10 -0400 (Fri, 18 Oct 2024) EllapsedTime: 50.1 seconds RetCode: 0 Status: OK PackageFile: hiAnnotator_1.38.0.tgz PackageFileSize: 816.9 KiB