Package: hermes Version: 1.8.0 Command: chmod a+r hermes -R && F:\biocbuild\bbs-3.19-bioc\R\bin\R.exe CMD build --keep-empty-dirs --no-resave-data hermes StartedAt: 2024-06-26 19:27:18 -0400 (Wed, 26 Jun 2024) EndedAt: 2024-06-26 19:29:22 -0400 (Wed, 26 Jun 2024) EllapsedTime: 123.6 seconds RetCode: 0 Status: OK PackageFile: hermes_1.8.0.tar.gz PackageFileSize: 3.373 MiB