Package: hermes Version: 1.8.0 Command: rm -rf hermes.buildbin-libdir && mkdir hermes.buildbin-libdir && F:\biocbuild\bbs-3.19-bioc\R\bin\R.exe CMD INSTALL --build --library=hermes.buildbin-libdir hermes_1.8.0.tar.gz StartedAt: 2024-06-27 08:20:36 -0400 (Thu, 27 Jun 2024) EndedAt: 2024-06-27 08:21:43 -0400 (Thu, 27 Jun 2024) EllapsedTime: 67.1 seconds RetCode: 0 Status: OK PackageFile: hermes_1.8.0.zip PackageFileSize: 3.447 MiB